Package: sitePath Version: 1.25.1 Command: /Library/Frameworks/R.framework/Resources/bin/R CMD INSTALL sitePath StartedAt: 2025-10-06 15:12:13 -0400 (Mon, 06 Oct 2025) EndedAt: 2025-10-06 15:12:49 -0400 (Mon, 06 Oct 2025) EllapsedTime: 36.5 seconds RetCode: 0 Status: OK