Package: sitePath Version: 1.25.1 Command: rm -rf sitePath.buildbin-libdir && mkdir sitePath.buildbin-libdir && /Users/biocbuild/BBS/utils/build-universal.sh sitePath_1.25.1.tar.gz /Library/Frameworks/R.framework/Resources/bin/R sitePath.buildbin-libdir StartedAt: 2025-10-08 02:43:22 -0400 (Wed, 08 Oct 2025) EndedAt: 2025-10-08 02:44:09 -0400 (Wed, 08 Oct 2025) EllapsedTime: 47.5 seconds RetCode: 0 Status: OK PackageFile: sitePath_1.25.1.tgz PackageFileSize: 1.494 MiB