Package: sitePath Version: 1.25.1 Maintainer: Chengyang Ji MaintainerEmail: chengyang.ji12 at alumni.xjtlu.edu.cn git_url: https://git.bioconductor.org/packages/sitePath git_branch: devel git_last_commit: 9ca37dc git_last_commit_date: 2025-09-17 03:28:13 -0400 (Wed, 17 Sep 2025)