Package: sitadela Version: 1.17.1 Command: /home/biocbuild/bbs-3.22-bioc/R/bin/R CMD INSTALL sitadela StartedAt: 2025-10-15 15:46:47 -0400 (Wed, 15 Oct 2025) EndedAt: 2025-10-15 15:47:36 -0400 (Wed, 15 Oct 2025) EllapsedTime: 49.2 seconds RetCode: 0 Status: OK