Package: sitadela Version: 1.17.1 Command: /home/biocbuild/bbs-3.22-bioc/R/bin/R CMD build --keep-empty-dirs --no-resave-data --md5 sitadela StartedAt: 2025-10-15 20:17:07 -0400 (Wed, 15 Oct 2025) EndedAt: 2025-10-15 20:19:29 -0400 (Wed, 15 Oct 2025) EllapsedTime: 141.2 seconds RetCode: 0 Status: OK PackageFile: sitadela_1.17.1.tar.gz PackageFileSize: 486.9 KiB