Package: singscore Version: 1.31.0 Command: /home/biocbuild/bbs-3.23-bioc/R/bin/R CMD INSTALL singscore StartedAt: 2025-11-05 15:36:21 -0500 (Wed, 05 Nov 2025) EndedAt: 2025-11-05 15:36:53 -0500 (Wed, 05 Nov 2025) EllapsedTime: 32.2 seconds RetCode: 0 Status: OK