Package: singscore Version: 1.31.0 Command: /home/biocbuild/bbs-3.23-bioc/R/bin/R CMD build --keep-empty-dirs --no-resave-data singscore StartedAt: 2025-11-05 20:08:16 -0500 (Wed, 05 Nov 2025) EndedAt: 2025-11-05 20:09:20 -0500 (Wed, 05 Nov 2025) EllapsedTime: 64.1 seconds RetCode: 0 Status: OK PackageFile: singscore_1.31.0.tar.gz PackageFileSize: 2.983 MiB