Package: singscore Version: 1.29.1 Command: /Library/Frameworks/R.framework/Resources/bin/R CMD INSTALL singscore StartedAt: 2025-10-20 15:25:37 -0400 (Mon, 20 Oct 2025) EndedAt: 2025-10-20 15:26:22 -0400 (Mon, 20 Oct 2025) EllapsedTime: 45.7 seconds RetCode: 0 Status: OK