Package: singscore Version: 1.29.1 Command: /Library/Frameworks/R.framework/Resources/bin/R CMD build --keep-empty-dirs --no-resave-data singscore StartedAt: 2025-10-20 19:31:57 -0400 (Mon, 20 Oct 2025) EndedAt: 2025-10-20 19:33:48 -0400 (Mon, 20 Oct 2025) EllapsedTime: 110.5 seconds RetCode: 0 Status: OK PackageFile: singscore_1.29.1.tar.gz PackageFileSize: 2.949 MiB