Package: singscore Version: 1.29.1 Command: rm -rf singscore.buildbin-libdir && mkdir singscore.buildbin-libdir && /Users/biocbuild/BBS/utils/build-universal.sh singscore_1.29.1.tar.gz /Library/Frameworks/R.framework/Resources/bin/R singscore.buildbin-libdir StartedAt: 2025-10-21 03:37:25 -0400 (Tue, 21 Oct 2025) EndedAt: 2025-10-21 03:38:14 -0400 (Tue, 21 Oct 2025) EllapsedTime: 48.3 seconds RetCode: 0 Status: OK PackageFile: singscore_1.29.1.tgz PackageFileSize: 3.443 MiB