Package: singleCellTK Version: 2.21.0 Command: /home/biocbuild/bbs-3.23-bioc/R/bin/R CMD INSTALL singleCellTK StartedAt: 2025-11-05 16:02:37 -0500 (Wed, 05 Nov 2025) EndedAt: 2025-11-05 16:03:20 -0500 (Wed, 05 Nov 2025) EllapsedTime: 43.2 seconds RetCode: 0 Status: OK