Package: singleCellTK Version: 2.19.2 Command: /Library/Frameworks/R.framework/Resources/bin/R CMD INSTALL singleCellTK StartedAt: 2025-10-08 15:54:47 -0400 (Wed, 08 Oct 2025) EndedAt: 2025-10-08 15:55:48 -0400 (Wed, 08 Oct 2025) EllapsedTime: 61.5 seconds RetCode: 0 Status: OK