Package: singleCellTK Version: 2.19.2 Command: /Library/Frameworks/R.framework/Resources/bin/R CMD build --keep-empty-dirs --no-resave-data singleCellTK StartedAt: 2025-10-08 19:22:04 -0400 (Wed, 08 Oct 2025) EndedAt: 2025-10-08 19:23:08 -0400 (Wed, 08 Oct 2025) EllapsedTime: 63.8 seconds RetCode: 0 Status: OK PackageFile: singleCellTK_2.19.2.tar.gz PackageFileSize: 3.242 MiB