Package: singleCellTK Version: 2.19.2 Maintainer: Joshua David Campbell MaintainerEmail: camp at bu.edu git_url: https://git.bioconductor.org/packages/singleCellTK git_branch: devel git_last_commit: 238aed05 git_last_commit_date: 2025-09-26 08:22:06 -0400 (Fri, 26 Sep 2025)