Package: sincell Version: 1.43.0 Command: /home/biocbuild/bbs-3.23-bioc/R/bin/R CMD INSTALL sincell StartedAt: 2025-11-20 15:07:06 -0500 (Thu, 20 Nov 2025) EndedAt: 2025-11-20 15:07:34 -0500 (Thu, 20 Nov 2025) EllapsedTime: 27.5 seconds RetCode: 0 Status: OK