Package: sincell Version: 1.43.0 Command: /home/biocbuild/bbs-3.23-bioc/R/bin/R CMD build --keep-empty-dirs --no-resave-data sincell StartedAt: 2025-11-20 20:07:17 -0500 (Thu, 20 Nov 2025) EndedAt: 2025-11-20 20:10:06 -0500 (Thu, 20 Nov 2025) EllapsedTime: 168.3 seconds RetCode: 0 Status: OK PackageFile: sincell_1.43.0.tar.gz PackageFileSize: 1.183 MiB