Package: sincell Version: 1.41.0 Command: /Library/Frameworks/R.framework/Resources/bin/R CMD INSTALL sincell StartedAt: 2025-10-17 15:09:45 -0400 (Fri, 17 Oct 2025) EndedAt: 2025-10-17 15:10:25 -0400 (Fri, 17 Oct 2025) EllapsedTime: 40.3 seconds RetCode: 0 Status: OK