Package: sincell Version: 1.41.0 Command: /Library/Frameworks/R.framework/Resources/bin/R CMD INSTALL sincell StartedAt: 2025-09-30 15:04:50 -0400 (Tue, 30 Sep 2025) EndedAt: 2025-09-30 15:05:03 -0400 (Tue, 30 Sep 2025) EllapsedTime: 12.6 seconds RetCode: 0 Status: OK