Package: sincell Version: 1.41.0 Command: /Library/Frameworks/R.framework/Resources/bin/R CMD build --keep-empty-dirs --no-resave-data sincell StartedAt: 2025-09-30 17:49:29 -0400 (Tue, 30 Sep 2025) EndedAt: 2025-09-30 17:50:56 -0400 (Tue, 30 Sep 2025) EllapsedTime: 87.0 seconds RetCode: 0 Status: OK PackageFile: sincell_1.41.0.tar.gz PackageFileSize: 1.183 MiB