Package: simplifyEnrichment Version: 2.3.0 Command: /home/biocbuild/R/R/bin/R CMD build --keep-empty-dirs --no-resave-data simplifyEnrichment StartedAt: 2025-10-14 03:40:24 -0000 (Tue, 14 Oct 2025) EndedAt: 2025-10-14 03:40:50 -0000 (Tue, 14 Oct 2025) EllapsedTime: 26.0 seconds RetCode: 0 Status: OK PackageFile: simplifyEnrichment_2.3.0.tar.gz PackageFileSize: 1.025 MiB