Package: simplifyEnrichment Version: 2.5.0 Command: /home/biocbuild/bbs-3.23-bioc/R/bin/R CMD build --keep-empty-dirs --no-resave-data simplifyEnrichment StartedAt: 2025-11-05 20:07:01 -0500 (Wed, 05 Nov 2025) EndedAt: 2025-11-05 20:07:20 -0500 (Wed, 05 Nov 2025) EllapsedTime: 19.0 seconds RetCode: 0 Status: OK PackageFile: simplifyEnrichment_2.5.0.tar.gz PackageFileSize: 1.025 MiB