Package: simpleSeg Version: 1.11.1 Command: /home/biocbuild/bbs-3.22-bioc/R/bin/R CMD check --install=check:simpleSeg.install-out.txt --library=/home/biocbuild/bbs-3.22-bioc/R/site-library --timings simpleSeg_1.11.1.tar.gz StartedAt: 2025-10-21 04:46:10 -0400 (Tue, 21 Oct 2025) EndedAt: 2025-10-21 04:55:03 -0400 (Tue, 21 Oct 2025) EllapsedTime: 533.4 seconds RetCode: 0 Status: OK CheckDir: simpleSeg.Rcheck Warnings: 0