Package: simpleSeg Version: 1.13.0 Command: /home/biocbuild/bbs-3.23-bioc/R/bin/R CMD build --keep-empty-dirs --no-resave-data simpleSeg StartedAt: 2025-11-05 20:06:31 -0500 (Wed, 05 Nov 2025) EndedAt: 2025-11-05 20:09:17 -0500 (Wed, 05 Nov 2025) EllapsedTime: 166.1 seconds RetCode: 0 Status: OK PackageFile: simpleSeg_1.13.0.tar.gz PackageFileSize: 4.544 MiB