Package: simpleSeg Version: 1.11.1 Command: /Library/Frameworks/R.framework/Resources/bin/R CMD INSTALL simpleSeg StartedAt: 2025-10-01 15:35:12 -0400 (Wed, 01 Oct 2025) EndedAt: 2025-10-01 15:36:18 -0400 (Wed, 01 Oct 2025) EllapsedTime: 65.4 seconds RetCode: 0 Status: OK