Package: simpleSeg Version: 1.11.1 Command: /Library/Frameworks/R.framework/Resources/bin/R CMD build --keep-empty-dirs --no-resave-data simpleSeg StartedAt: 2025-10-01 18:52:47 -0400 (Wed, 01 Oct 2025) EndedAt: 2025-10-01 18:55:51 -0400 (Wed, 01 Oct 2025) EllapsedTime: 184.2 seconds RetCode: 0 Status: OK PackageFile: simpleSeg_1.11.1.tar.gz PackageFileSize: 4.763 MiB