Package: simpleSeg Version: 1.11.1 Command: rm -rf simpleSeg.buildbin-libdir && mkdir simpleSeg.buildbin-libdir && /Users/biocbuild/BBS/utils/build-universal.sh simpleSeg_1.11.1.tar.gz /Library/Frameworks/R.framework/Resources/bin/R simpleSeg.buildbin-libdir StartedAt: 2025-10-02 02:15:39 -0400 (Thu, 02 Oct 2025) EndedAt: 2025-10-02 02:16:49 -0400 (Thu, 02 Oct 2025) EllapsedTime: 70.6 seconds RetCode: 0 Status: OK PackageFile: simpleSeg_1.11.1.tgz PackageFileSize: 4.694 MiB