Package: simona Version: 1.9.0 Command: /home/biocbuild/bbs-3.23-bioc/R/bin/R CMD INSTALL simona StartedAt: 2025-11-20 15:14:10 -0500 (Thu, 20 Nov 2025) EndedAt: 2025-11-20 15:15:26 -0500 (Thu, 20 Nov 2025) EllapsedTime: 75.2 seconds RetCode: 0 Status: OK