Package: simona Version: 1.9.0 Command: /home/biocbuild/bbs-3.23-bioc/R/bin/R CMD build --keep-empty-dirs --no-resave-data simona StartedAt: 2025-11-20 20:06:25 -0500 (Thu, 20 Nov 2025) EndedAt: 2025-11-20 20:07:44 -0500 (Thu, 20 Nov 2025) EllapsedTime: 79.1 seconds RetCode: 0 Status: OK PackageFile: simona_1.9.0.tar.gz PackageFileSize: 945.3 KiB