Package: simona Version: 1.9.0 Command: /Library/Frameworks/R.framework/Resources/bin/R CMD INSTALL simona StartedAt: 2025-11-21 15:21:33 -0500 (Fri, 21 Nov 2025) EndedAt: 2025-11-21 15:22:44 -0500 (Fri, 21 Nov 2025) EllapsedTime: 70.7 seconds RetCode: 0 Status: OK