Package: simona Version: 1.9.0 Command: /Library/Frameworks/R.framework/Resources/bin/R CMD build --keep-empty-dirs --no-resave-data simona StartedAt: 2025-11-20 18:44:43 -0500 (Thu, 20 Nov 2025) EndedAt: 2025-11-20 18:45:47 -0500 (Thu, 20 Nov 2025) EllapsedTime: 64.2 seconds RetCode: 0 Status: OK PackageFile: simona_1.9.0.tar.gz PackageFileSize: 945.4 KiB