Package: simona Version: 1.7.1 Command: /Library/Frameworks/R.framework/Resources/bin/R CMD INSTALL simona StartedAt: 2025-10-27 15:07:37 -0400 (Mon, 27 Oct 2025) EndedAt: 2025-10-27 15:07:59 -0400 (Mon, 27 Oct 2025) EllapsedTime: 22.1 seconds RetCode: 0 Status: OK