Package: similaRpeak Version: 1.43.0 Command: /home/biocbuild/bbs-3.23-bioc/R/bin/R CMD INSTALL similaRpeak StartedAt: 2025-11-03 15:01:57 -0500 (Mon, 03 Nov 2025) EndedAt: 2025-11-03 15:02:05 -0500 (Mon, 03 Nov 2025) EllapsedTime: 7.8 seconds RetCode: 0 Status: OK