Package: similaRpeak Version: 1.41.0 Command: /Library/Frameworks/R.framework/Resources/bin/R CMD INSTALL similaRpeak StartedAt: 2025-10-14 15:05:06 -0400 (Tue, 14 Oct 2025) EndedAt: 2025-10-14 15:05:21 -0400 (Tue, 14 Oct 2025) EllapsedTime: 14.4 seconds RetCode: 0 Status: OK