Package: similaRpeak Version: 1.41.0 Command: /Library/Frameworks/R.framework/Resources/bin/R CMD build --keep-empty-dirs --no-resave-data similaRpeak StartedAt: 2025-10-14 19:21:45 -0400 (Tue, 14 Oct 2025) EndedAt: 2025-10-14 19:22:17 -0400 (Tue, 14 Oct 2025) EllapsedTime: 32.0 seconds RetCode: 0 Status: OK PackageFile: similaRpeak_1.41.0.tar.gz PackageFileSize: 2.145 MiB