Package: similaRpeak Version: 1.41.0 Command: /Library/Frameworks/R.framework/Resources/bin/R CMD INSTALL similaRpeak StartedAt: 2025-10-03 15:01:36 -0400 (Fri, 03 Oct 2025) EndedAt: 2025-10-03 15:01:40 -0400 (Fri, 03 Oct 2025) EllapsedTime: 3.9 seconds RetCode: 0 Status: OK