Package: similaRpeak Version: 1.41.0 Command: /Library/Frameworks/R.framework/Resources/bin/R CMD build --keep-empty-dirs --no-resave-data similaRpeak StartedAt: 2025-10-03 17:44:01 -0400 (Fri, 03 Oct 2025) EndedAt: 2025-10-03 17:44:12 -0400 (Fri, 03 Oct 2025) EllapsedTime: 11.1 seconds RetCode: 0 Status: OK PackageFile: similaRpeak_1.41.0.tar.gz PackageFileSize: 2.145 MiB