Package: simPIC Version: 1.5.3 Command: /home/biocbuild/R/R/bin/R CMD INSTALL simPIC StartedAt: 2025-09-29 20:57:52 -0000 (Mon, 29 Sep 2025) EndedAt: 2025-09-29 20:57:53 -0000 (Mon, 29 Sep 2025) EllapsedTime: 1.0 seconds RetCode: 1 Status: ERROR