Package: simPIC Version: 1.5.3 Command: /home/biocbuild/R/R/bin/R CMD build --keep-empty-dirs --no-resave-data simPIC StartedAt: 2025-09-30 03:20:18 -0000 (Tue, 30 Sep 2025) EndedAt: 2025-09-30 03:20:19 -0000 (Tue, 30 Sep 2025) EllapsedTime: 1.0 seconds RetCode: 1 Status: ERROR PackageFile: None PackageFileSize: NA