############################################################################## ############################################################################## ### ### Running command: ### ### /home/biocbuild/R/R/bin/R CMD build --keep-empty-dirs --no-resave-data simPIC ### ############################################################################## ############################################################################## * checking for file ‘simPIC/DESCRIPTION’ ... OK * preparing ‘simPIC’: * checking DESCRIPTION meta-information ... OK * installing the package to build vignettes ----------------------------------- ERROR: dependency ‘actuar’ is not available for package ‘simPIC’ Perhaps try a variation of: install.packages('actuar') * removing ‘/home/biocbuild/tmp/RtmpChmgeg/Rinst235147551779be/simPIC’ ----------------------------------- ERROR: package installation failed