Package: simPIC Version: 1.5.3 Command: F:\biocbuild\bbs-3.22-bioc\R\bin\R.exe CMD INSTALL simPIC StartedAt: 2025-08-14 16:11:01 -0400 (Thu, 14 Aug 2025) EndedAt: 2025-08-14 16:11:44 -0400 (Thu, 14 Aug 2025) EllapsedTime: 43.6 seconds RetCode: 0 Status: OK