Package: simPIC Version: 1.5.3 Command: chmod a+r simPIC -R && F:\biocbuild\bbs-3.22-bioc\R\bin\R.exe CMD build --keep-empty-dirs --no-resave-data simPIC StartedAt: 2025-08-14 23:19:03 -0400 (Thu, 14 Aug 2025) EndedAt: 2025-08-14 23:23:06 -0400 (Thu, 14 Aug 2025) EllapsedTime: 243.4 seconds RetCode: 0 Status: OK PackageFile: simPIC_1.5.3.tar.gz PackageFileSize: 4.896 MiB