Package: simPIC Version: 1.5.3 Command: rm -rf simPIC.buildbin-libdir && mkdir simPIC.buildbin-libdir && F:\biocbuild\bbs-3.22-bioc\R\bin\R.exe CMD INSTALL --build --library=simPIC.buildbin-libdir simPIC_1.5.3.tar.gz StartedAt: 2025-08-15 11:20:34 -0400 (Fri, 15 Aug 2025) EndedAt: 2025-08-15 11:21:14 -0400 (Fri, 15 Aug 2025) EllapsedTime: 40.6 seconds RetCode: 0 Status: OK PackageFile: simPIC_1.5.3.zip PackageFileSize: 5.652 MiB