Package: simPIC Version: 1.7.0 Command: /home/biocbuild/bbs-3.23-bioc/R/bin/R CMD check --install=check:simPIC.install-out.txt --library=/home/biocbuild/bbs-3.23-bioc/R/site-library --timings simPIC_1.7.0.tar.gz StartedAt: 2025-11-06 03:56:20 -0500 (Thu, 06 Nov 2025) EndedAt: 2025-11-06 04:03:01 -0500 (Thu, 06 Nov 2025) EllapsedTime: 400.5 seconds RetCode: 0 Status: OK CheckDir: simPIC.Rcheck Warnings: 0