Package: sigsquared Version: 1.43.0 Command: /home/biocbuild/bbs-3.23-bioc/R/bin/R CMD INSTALL sigsquared StartedAt: 2025-11-06 15:12:49 -0500 (Thu, 06 Nov 2025) EndedAt: 2025-11-06 15:12:56 -0500 (Thu, 06 Nov 2025) EllapsedTime: 7.0 seconds RetCode: 0 Status: OK