Package: sigsquared Version: 1.43.0 Command: /home/biocbuild/bbs-3.23-bioc/R/bin/R CMD build --keep-empty-dirs --no-resave-data sigsquared StartedAt: 2025-11-06 19:58:08 -0500 (Thu, 06 Nov 2025) EndedAt: 2025-11-06 19:58:30 -0500 (Thu, 06 Nov 2025) EllapsedTime: 22.0 seconds RetCode: 0 Status: OK PackageFile: sigsquared_1.43.0.tar.gz PackageFileSize: 441.6 KiB