Package: sigsquared Version: 1.41.0 Command: rm -rf sigsquared.buildbin-libdir && mkdir sigsquared.buildbin-libdir && /Users/biocbuild/BBS/utils/build-universal.sh sigsquared_1.41.0.tar.gz /Library/Frameworks/R.framework/Resources/bin/R sigsquared.buildbin-libdir StartedAt: 2025-10-28 23:16:34 -0400 (Tue, 28 Oct 2025) EndedAt: 2025-10-28 23:16:38 -0400 (Tue, 28 Oct 2025) EllapsedTime: 4.1 seconds RetCode: 0 Status: OK PackageFile: sigsquared_1.41.0.tgz PackageFileSize: 421.9 KiB