Package: signifinder Version: 1.13.0 Command: /home/biocbuild/bbs-3.23-bioc/R/bin/R CMD INSTALL signifinder StartedAt: 2025-11-23 16:00:58 -0500 (Sun, 23 Nov 2025) EndedAt: 2025-11-23 16:01:54 -0500 (Sun, 23 Nov 2025) EllapsedTime: 55.7 seconds RetCode: 0 Status: OK