Package: signifinder Version: 1.13.0 Command: /home/biocbuild/bbs-3.23-bioc/R/bin/R CMD build --keep-empty-dirs --no-resave-data signifinder StartedAt: 2025-11-23 20:03:53 -0500 (Sun, 23 Nov 2025) EndedAt: 2025-11-23 20:06:44 -0500 (Sun, 23 Nov 2025) EllapsedTime: 171.2 seconds RetCode: 0 Status: OK PackageFile: signifinder_1.13.0.tar.gz PackageFileSize: 9.546 MiB