Package: signifinder Version: 1.13.0 Command: /Library/Frameworks/R.framework/Resources/bin/R CMD INSTALL signifinder StartedAt: 2025-11-24 15:31:29 -0500 (Mon, 24 Nov 2025) EndedAt: 2025-11-24 15:31:51 -0500 (Mon, 24 Nov 2025) EllapsedTime: 22.6 seconds RetCode: 0 Status: OK