Package: signifinder Version: 1.13.0 Command: /Library/Frameworks/R.framework/Resources/bin/R CMD build --keep-empty-dirs --no-resave-data signifinder StartedAt: 2025-11-24 17:49:08 -0500 (Mon, 24 Nov 2025) EndedAt: 2025-11-24 17:50:22 -0500 (Mon, 24 Nov 2025) EllapsedTime: 73.8 seconds RetCode: 0 Status: OK PackageFile: signifinder_1.13.0.tar.gz PackageFileSize: 9.822 MiB